BEGIN:VCALENDAR
VERSION:2.0
PRODID:-//八鹿福音ルーテル教会 - ECPv6.15.20//NONSGML v1.0//EN
CALSCALE:GREGORIAN
METHOD:PUBLISH
X-ORIGINAL-URL:https://www.wjelc.or.jp/yoka
X-WR-CALDESC:八鹿福音ルーテル教会 のイベント
REFRESH-INTERVAL;VALUE=DURATION:PT1H
X-Robots-Tag:noindex
X-PUBLISHED-TTL:PT1H
BEGIN:VTIMEZONE
TZID:Asia/Tokyo
BEGIN:STANDARD
TZOFFSETFROM:+0900
TZOFFSETTO:+0900
TZNAME:JST
DTSTART:20220101T000000
END:STANDARD
END:VTIMEZONE
BEGIN:VEVENT
DTSTART;TZID=Asia/Tokyo:20231112T103000
DTEND;TZID=Asia/Tokyo:20231112T113000
DTSTAMP:20260422T053332
CREATED:20230922T100555Z
LAST-MODIFIED:20230922T100555Z
UID:27996-1699785000-1699788600@www.wjelc.or.jp
SUMMARY:神学校デー
DESCRIPTION:神戸ルーテル神学校から　正木牧人前校長をお呼びして説教をしていただき、 \nその後、神学校の紹介もしてくださいます。
URL:https://www.wjelc.or.jp/yoka/event/%e7%a5%9e%e5%ad%a6%e6%a0%a1%e3%83%87%e3%83%bc/
LOCATION:八鹿福音ルーテル教会\, 養父市八鹿町八鹿８６３\, 兵庫県\, 667-0021\, Japan
CATEGORIES:礼拝
END:VEVENT
BEGIN:VEVENT
DTSTART;TZID=Asia/Tokyo:20231105T103000
DTEND;TZID=Asia/Tokyo:20231105T113000
DTSTAMP:20260422T053332
CREATED:20230921T095251Z
LAST-MODIFIED:20230921T095251Z
UID:27993-1699180200-1699183800@www.wjelc.or.jp
SUMMARY:召天者記念礼拝
DESCRIPTION:召天者記念礼拝へのお誘い\n八鹿教会のこれまでの召天者の方々を偲びつつ礼拝の時を持ちます。 \n関係者の方々のご出席をお待ちしております。 \n八鹿福音ルーテル教会　　牧師　丹羽 均
URL:https://www.wjelc.or.jp/yoka/event/%e5%8f%ac%e5%a4%a9%e8%80%85%e8%a8%98%e5%bf%b5%e7%a4%bc%e6%8b%9d/
LOCATION:八鹿福音ルーテル教会\, 養父市八鹿町八鹿８６３\, 兵庫県\, 667-0021\, Japan
CATEGORIES:礼拝
END:VEVENT
END:VCALENDAR